BEGIN:VCALENDAR
VERSION:2.0
PRODID:-//Ciencia Abierta - ECPv6.15.12.2//NONSGML v1.0//EN
CALSCALE:GREGORIAN
METHOD:PUBLISH
X-WR-CALNAME:Ciencia Abierta
X-ORIGINAL-URL:https://ciencia-abierta.ubiobio.cl
X-WR-CALDESC:Eventos para Ciencia Abierta
REFRESH-INTERVAL;VALUE=DURATION:PT1H
X-Robots-Tag:noindex
X-PUBLISHED-TTL:PT1H
BEGIN:VTIMEZONE
TZID:UTC
BEGIN:STANDARD
TZOFFSETFROM:+0000
TZOFFSETTO:+0000
TZNAME:UTC
DTSTART:20220101T000000
END:STANDARD
END:VTIMEZONE
BEGIN:VEVENT
DTSTART;TZID=UTC:20231117T080000
DTEND;TZID=UTC:20231117T170000
DTSTAMP:20260424T044230
CREATED:20231204T181043Z
LAST-MODIFIED:20240319T132801Z
UID:25095975-1700208000-1700240400@ciencia-abierta.ubiobio.cl
SUMMARY:Proyecto InES Ciencia Abierta UBB participó en el II seminario “Produciendo Ciencia desde el sur del mundo. Ciencia Abierta: herramientas y desafíos”
DESCRIPTION:Expuso la directora del proyecto y directora de Investigación y Creación Artística\, Dra. Claudia Muñoz Sanguinetti.\n+ Información
URL:http://vinculacionbib.udec.cl/index.php/el-seminario/#new_tab
CATEGORIES:Noticias
ATTACH;FMTTYPE=image/png:https://ciencia-abierta.ubiobio.cl/wp-content/uploads/2023/11/Mesa-de-trabajo-1-3.png
END:VEVENT
END:VCALENDAR