BEGIN:VCALENDAR
VERSION:2.0
PRODID:-//Ciencia Abierta - ECPv6.15.12.2//NONSGML v1.0//EN
CALSCALE:GREGORIAN
METHOD:PUBLISH
X-WR-CALNAME:Ciencia Abierta
X-ORIGINAL-URL:https://ciencia-abierta.ubiobio.cl
X-WR-CALDESC:Eventos para Ciencia Abierta
REFRESH-INTERVAL;VALUE=DURATION:PT1H
X-Robots-Tag:noindex
X-PUBLISHED-TTL:PT1H
BEGIN:VTIMEZONE
TZID:UTC
BEGIN:STANDARD
TZOFFSETFROM:+0000
TZOFFSETTO:+0000
TZNAME:UTC
DTSTART:20230101T000000
END:STANDARD
END:VTIMEZONE
BEGIN:VEVENT
DTSTART;TZID=UTC:20240312T150000
DTEND;TZID=UTC:20240312T163000
DTSTAMP:20260424T204923
CREATED:20240304T135127Z
LAST-MODIFIED:20240305T142029Z
UID:25096439-1710255600-1710261000@ciencia-abierta.ubiobio.cl
SUMMARY:¿Cómo y donde publicar un artículo de alto impacto?
DESCRIPTION:El objetivo de este webinar es realizar un repaso general de todos los puntos esenciales que se requieren para mejorar mis habilidades como investigador haciendo uso de las herramientas que mi Institución suscribe.\n1. Características de un artículo de alto impacto\n2. Importancia de la información y datos de tu artículo\n3. Qué se espera de mi artículo por parte de las editoriales?\n4. Qué debo esperar de la revista donde publicar?\n5. Cómo identificar revistas de calidad y de alto impacto?\nPanelistas:\nSusana Meneses / Fernando Franco\nConsultores Regionales especialistas en investigación
URL:https://clarivatewebinars.webex.com/weblink/register/rbb6e30776949c131316388cf3c29e7e9#new_tab
LOCATION:Herramientas multidisciplinarias 2\, Web of Science/EndNote Online/Journal Citation Reports/Essentials Science Indicators/Master Journal List
CATEGORIES:RED CIENCIA ABIERTA
ATTACH;FMTTYPE=image/png:https://ciencia-abierta.ubiobio.cl/wp-content/uploads/2024/03/12-marzo.png
END:VEVENT
END:VCALENDAR