BEGIN:VCALENDAR
VERSION:2.0
PRODID:-//Ciencia Abierta - ECPv6.15.12.2//NONSGML v1.0//EN
CALSCALE:GREGORIAN
METHOD:PUBLISH
X-WR-CALNAME:Ciencia Abierta
X-ORIGINAL-URL:https://ciencia-abierta.ubiobio.cl
X-WR-CALDESC:Eventos para Ciencia Abierta
REFRESH-INTERVAL;VALUE=DURATION:PT1H
X-Robots-Tag:noindex
X-PUBLISHED-TTL:PT1H
BEGIN:VTIMEZONE
TZID:UTC
BEGIN:STANDARD
TZOFFSETFROM:+0000
TZOFFSETTO:+0000
TZNAME:UTC
DTSTART:20230101T000000
END:STANDARD
END:VTIMEZONE
BEGIN:VEVENT
DTSTART;TZID=UTC:20240611T150000
DTEND;TZID=UTC:20240611T163000
DTSTAMP:20260424T051609
CREATED:20240514T153304Z
LAST-MODIFIED:20240514T161133Z
UID:25096674-1718118000-1718123400@ciencia-abierta.ubiobio.cl
SUMMARY:Lograr una mayor captación de citas de mis artículos científicos publicando en revistas internacionales
DESCRIPTION:1. Introducción al Journal Citation Reports\n2. Métricas importantes para medir la influencia de una revista (Factor de Impacto y Cuartiles)\n3. Ejercicios en el Manuscript Matcher para localizar revistas acorde al título y abstract de mi proyecto.\n4. Diferencias al publicar en revistas regionales vs. internacionales\n5. Identificación de revistas depredadoras \nEl objetivo de este webinar es utilizar el Journal Citation Reports para identificar a las revistas más leídas y citadas de mi área de estudio.\nPanelistas:\nSusana Meneses / Fernando Franco\nConsultores Regionales especialistas en investigación\nEste webinar lo podrá ver posteriormente a través de nuestro canal de YouTube:
URL:https://clarivatewebinars.webex.com/webappng/sites/clarivatewebinars/meeting/register/98d66f4b0d2f44fe86505a6539b81bd2?ticket=4832534b000000074768ff8729ebd4708cd0a75613b5ca3387ef7303e3b28199cbf96070cc3b6c76&#038;timestamp=1715700254022&#038;RGID=rf2901808c119998a75d338ab09e25e06#new_tab
LOCATION:Journal Citation Reports
CATEGORIES:Eventos,RED CIENCIA ABIERTA
ATTACH;FMTTYPE=image/png:https://ciencia-abierta.ubiobio.cl/wp-content/uploads/2024/05/2.png
END:VEVENT
END:VCALENDAR