BEGIN:VCALENDAR
VERSION:2.0
PRODID:-//Ciencia Abierta - ECPv6.15.12.2//NONSGML v1.0//EN
CALSCALE:GREGORIAN
METHOD:PUBLISH
X-WR-CALNAME:Ciencia Abierta
X-ORIGINAL-URL:https://ciencia-abierta.ubiobio.cl
X-WR-CALDESC:Eventos para Ciencia Abierta
REFRESH-INTERVAL;VALUE=DURATION:PT1H
X-Robots-Tag:noindex
X-PUBLISHED-TTL:PT1H
BEGIN:VTIMEZONE
TZID:UTC
BEGIN:STANDARD
TZOFFSETFROM:+0000
TZOFFSETTO:+0000
TZNAME:UTC
DTSTART:20230101T000000
END:STANDARD
END:VTIMEZONE
BEGIN:VEVENT
DTSTART;TZID=UTC:20240911T080000
DTEND;TZID=UTC:20240911T170000
DTSTAMP:20260425T125948
CREATED:20240724T202837Z
LAST-MODIFIED:20240724T202837Z
UID:25096951-1726041600-1726074000@ciencia-abierta.ubiobio.cl
SUMMARY:Foro Latam Ciencia Abierta 2024
DESCRIPTION:«Estimada Red de Ciencia Abierta en Chile».\nTendremos 8 invitados de LATAM que vendrán a Ecuador con quienes tendremos charlas\, conversatorios\, talleres.\nEl registro al evento es por aquí: https://foro.cienciaabierta.info
URL:https://foro.cienciaabierta.info/#new_tab
LOCATION:Universidad Andina Simón Bolívar\, Quito-Ecuador
CATEGORIES:Eventos,RED CIENCIA ABIERTA
ATTACH;FMTTYPE=image/png:https://ciencia-abierta.ubiobio.cl/wp-content/uploads/2024/07/foro-latino.png
END:VEVENT
END:VCALENDAR