BEGIN:VCALENDAR
VERSION:2.0
PRODID:-//Ciencia Abierta - ECPv6.15.12.2//NONSGML v1.0//EN
CALSCALE:GREGORIAN
METHOD:PUBLISH
X-WR-CALNAME:Ciencia Abierta
X-ORIGINAL-URL:https://ciencia-abierta.ubiobio.cl
X-WR-CALDESC:Eventos para Ciencia Abierta
REFRESH-INTERVAL;VALUE=DURATION:PT1H
X-Robots-Tag:noindex
X-PUBLISHED-TTL:PT1H
BEGIN:VTIMEZONE
TZID:UTC
BEGIN:STANDARD
TZOFFSETFROM:+0000
TZOFFSETTO:+0000
TZNAME:UTC
DTSTART:20230101T000000
END:STANDARD
END:VTIMEZONE
BEGIN:VEVENT
DTSTART;TZID=UTC:20241128T080000
DTEND;TZID=UTC:20241128T120000
DTSTAMP:20260424T093324
CREATED:20241202T160355Z
LAST-MODIFIED:20241202T160805Z
UID:25097245-1732780800-1732795200@ciencia-abierta.ubiobio.cl
SUMMARY:Convocatoria Concurso 2025 Proyectos de Investigación  en Docencia y Aprendizaje
DESCRIPTION:
URL:https://vrip.ubiobio.cl/inicio/concurso-proyectos-pida-2025/#new_tab
LOCATION:Univesidad del Bío-Bío\, Avda. Collao 1202 Casilla 5-C\, Concepción\, Bío Bío\, Concepción y Chillán\, Chile
CATEGORIES:Eventos
ATTACH;FMTTYPE=image/png:https://ciencia-abierta.ubiobio.cl/wp-content/uploads/2024/12/taller.png
END:VEVENT
END:VCALENDAR