BEGIN:VCALENDAR
VERSION:2.0
PRODID:-//Ciencia Abierta - ECPv6.15.12.2//NONSGML v1.0//EN
CALSCALE:GREGORIAN
METHOD:PUBLISH
X-WR-CALNAME:Ciencia Abierta
X-ORIGINAL-URL:https://ciencia-abierta.ubiobio.cl
X-WR-CALDESC:Eventos para Ciencia Abierta
REFRESH-INTERVAL;VALUE=DURATION:PT1H
X-Robots-Tag:noindex
X-PUBLISHED-TTL:PT1H
BEGIN:VTIMEZONE
TZID:UTC
BEGIN:STANDARD
TZOFFSETFROM:+0000
TZOFFSETTO:+0000
TZNAME:UTC
DTSTART:20240101T000000
END:STANDARD
END:VTIMEZONE
BEGIN:VEVENT
DTSTART;TZID=UTC:20250514T090000
DTEND;TZID=UTC:20250515T170000
DTSTAMP:20260424T185601
CREATED:20250430T155648Z
LAST-MODIFIED:20250528T192103Z
UID:26570691-1747213200-1747328400@ciencia-abierta.ubiobio.cl
SUMMARY:Seminario Internacional Horizontes de la Ciencia Abierta
DESCRIPTION:Jornada desarrollada el 14 y 15 de Mayo del 2025\nLa Universidad del Bío-Bío tiene el agrado de invitarle cordialmente al Lanzamiento del Proyecto de Revistas Científicas y al acto de Cierre del Proyecto InES Ciencia Abierta.
URL:https://ciencia-abierta.ubiobio.cl/seminario-internacional-ciencia-abierta-ubb/
LOCATION:Facultad de Ingeniería\, 2do piso Auditorio Hermann Gamm\, Campus Concepción\, Universidad del Bío-Bío\, Facultad de Ingeniería\, 2do piso Auditorio Hermann Gamm\, Campus Concepción\, Universidad del Bío-Bío
CATEGORIES:CIENCIA ABIERTA UBB,Eventos,Eventos destacados,Eventos históricos
ATTACH;FMTTYPE=image/jpeg:https://ciencia-abierta.ubiobio.cl/wp-content/uploads/2025/04/seminario-1.jpg
END:VEVENT
BEGIN:VEVENT
DTSTART;TZID=UTC:20250514T150000
DTEND;TZID=UTC:20250514T170000
DTSTAMP:20260424T185601
CREATED:20250430T160614Z
LAST-MODIFIED:20250528T192139Z
UID:26570695-1747234800-1747242000@ciencia-abierta.ubiobio.cl
SUMMARY:Taller Inclusión y Diversidad: Importancia de promover mejores prácticas editoriales en la publicación científica.
DESCRIPTION:14 de Mayo a las 15:00 horas\nCupos disponibles: 30 participantes.\nActividad orientada a editores de revistas científicas\, investigadores y académicos\, en la cual se discutirán aspectos clave de la ética en la edición de revistas considerando territorialidad e inclusión.
URL:https://ciencia-abierta.ubiobio.cl/seminario-internacional-ciencia-abierta-ubb/
LOCATION:Centro de Innovación\, piso -1\, Sede Concepción\, Universidad del Bío-Bío\, Centro de Innovación\, piso -1\, Sede Concepción\, Universidad del Bío-Bío
CATEGORIES:Eventos,Eventos destacados,TALLERES CIENCIA ABIERTA
ATTACH;FMTTYPE=image/jpeg:https://ciencia-abierta.ubiobio.cl/wp-content/uploads/2025/04/talleres.jpg
END:VEVENT
END:VCALENDAR