BEGIN:VCALENDAR
VERSION:2.0
PRODID:-//Ciencia Abierta - ECPv6.15.12.2//NONSGML v1.0//EN
CALSCALE:GREGORIAN
METHOD:PUBLISH
X-WR-CALNAME:Ciencia Abierta
X-ORIGINAL-URL:https://ciencia-abierta.ubiobio.cl
X-WR-CALDESC:Eventos para Ciencia Abierta
REFRESH-INTERVAL;VALUE=DURATION:PT1H
X-Robots-Tag:noindex
X-PUBLISHED-TTL:PT1H
BEGIN:VTIMEZONE
TZID:UTC
BEGIN:STANDARD
TZOFFSETFROM:+0000
TZOFFSETTO:+0000
TZNAME:UTC
DTSTART:20230101T000000
END:STANDARD
END:VTIMEZONE
BEGIN:VEVENT
DTSTART;TZID=UTC:20240702T150000
DTEND;TZID=UTC:20240702T163000
DTSTAMP:20260422T082235
CREATED:20240514T154550Z
LAST-MODIFIED:20240514T154550Z
UID:25096685-1719932400-1719937800@ciencia-abierta.ubiobio.cl
SUMMARY:¿Cómo y donde publicar un artículo de alto impacto?
DESCRIPTION:1. Características de un artículo de alto impacto\n2. Importancia de la información y datos de tu artículo\n3. Qué se espera de mi artículo por parte de las editoriales?\n4. Qué debo esperar de la revista donde publicar?\n5. Cómo identificar revistas de calidad y de alto impacto? \nEl objetivo de este webinar es realizar un repaso general de todos los puntos esenciales que se requieren para mejorar mis habilidades como investigador haciendo uso de las herramientas que mi Institución suscribe.\nPanelistas:\nSusana Meneses / Fernando Franco\nConsultores Regionales especialistas en investigación.\nEste webinar lo podrá ver posteriormente a través de nuestro canal de YouTube:
URL:https://clarivatewebinars.webex.com/webappng/sites/clarivatewebinars/meeting/register/a4c155650be14b4eba98be90e6d25beb?ticket=4832534b00000007c41a82e56c7936678d70fa7369110b9d018ae52221dbf492665842bb64ef36ef&#038;timestamp=1715701483068&#038;RGID=r8466700f1c5a85cddd3c62c0ad5911d2#new_tab
LOCATION:Web of Science/EndNote Online/Journal Citation Reports/Essentials Science Indicators/Master Journal List/
CATEGORIES:Eventos,RED CIENCIA ABIERTA
ATTACH;FMTTYPE=image/png:https://ciencia-abierta.ubiobio.cl/wp-content/uploads/2024/05/5.png
END:VEVENT
BEGIN:VEVENT
DTSTART;TZID=UTC:20240709T150000
DTEND;TZID=UTC:20240709T163000
DTSTAMP:20260422T082235
CREATED:20240514T154947Z
LAST-MODIFIED:20240514T160927Z
UID:25096689-1720537200-1720542600@ciencia-abierta.ubiobio.cl
SUMMARY:¿Mi artículo científico tiene un impacto cercano\, lejano o igual al de un futuro premio Nobel?
DESCRIPTION:1. Características del Essential Science Indicators\n2. Identifica documentos Hot y Highly Cited\n3. Ejercicios para comparar documentos en Essential Science Indicators \nEl objetivo de este webinar es utilizar el Essentials Science Indicators para comparar el impacto de mis artículos versus otros de la misma área y mismo año de publicación.\nPanelistas:\nSusana Meneses / Fernando Franco\nConsultores Regionales especialistas en investigación.\nEste webinar lo podrá ver posteriormente a través de nuestro canal de YouTube:
URL:https://clarivatewebinars.webex.com/webappng/sites/clarivatewebinars/meeting/register/25b0226a350c4bd6943719fcbebdcd45?ticket=4832534b00000007345eafc2df18cfac8f4850b5571c7adeafd6fe0e8f754097cf4dd1df637ebcf7&#038;timestamp=1715701697375&#038;RGID=r7b11e030c72a58d696afc92005e531ca#new_tab
LOCATION:Essential Science Indicators
CATEGORIES:Eventos,RED CIENCIA ABIERTA
ATTACH;FMTTYPE=image/png:https://ciencia-abierta.ubiobio.cl/wp-content/uploads/2024/05/6.png
END:VEVENT
BEGIN:VEVENT
DTSTART;TZID=UTC:20240716T150000
DTEND;TZID=UTC:20240716T163000
DTSTAMP:20260422T082235
CREATED:20240514T155750Z
LAST-MODIFIED:20240514T155750Z
UID:25096693-1721142000-1721147400@ciencia-abierta.ubiobio.cl
SUMMARY:¿Cómo conseguir financiamiento externo para mis proyectos académicos / científicos?
DESCRIPTION:1. Qué es Pivot y a quién beneficia\n2. Registro de  perfil de usuario en la herramienta\n3. Ejercicios de búsquedas básicas y avanzadas de convocatorias y becas\n4. Funciones adicionales de Pivot para localizar conferencias internacionales.\n5. Localización de redes internacionales de proyectos de investigación. \nEl objetivo de este webinar es utilizar Pivot como herramienta de financiamiento confiable para la detección y rastreo de recursos y oportunidades externas a mi Institución.\nPanelistas:\nSusana Meneses / Fernando Franco\nConsultores Regionales especialistas en investigación.\nEste webinar lo podrá ver posteriormente a través de nuestro canal de YouTube:
URL:https://clarivatewebinars.webex.com/webappng/sites/clarivatewebinars/meeting/register/353cfe7eb8924f5f943ccd8189f5bbbf?ticket=4832534b00000007fbc0bf924c961dd0b5868c5d761e158aa272d2bddf79be8d686746e32635b3cd&#038;timestamp=1715702202973&#038;RGID=r1e85c69e11bfaa23db32afc26fae8d77#new_tab
LOCATION:PIVOT
CATEGORIES:Eventos,RED CIENCIA ABIERTA
ATTACH;FMTTYPE=image/png:https://ciencia-abierta.ubiobio.cl/wp-content/uploads/2024/05/7.png
END:VEVENT
BEGIN:VEVENT
DTSTART;TZID=UTC:20240723T150000
DTEND;TZID=UTC:20240723T163000
DTSTAMP:20260422T082235
CREATED:20240514T160458Z
LAST-MODIFIED:20240514T160458Z
UID:25096696-1721746800-1721752200@ciencia-abierta.ubiobio.cl
SUMMARY:Receta secreta para la creación de proyectos académicos y científicos exitosos
DESCRIPTION:Que su proyecto no pase desapercibido\, conozca la receta secreta para la creación de proyectos académicos y científicos exitosos.\n1. Introducción a Web of Science\n2. Creación de mi perfil de usuario en Web of Science\n3. Ejercicios para localizar información confiable\, novedosa e impactante\n4. Ejercicios para recuperar full text\n5. Diferencias entre consumir información regional vs internacional\n6. Uso de la bibliometría para entender la tendencia de mi área de estudio. \nEl objetivo de este webinar es utilizar la Colección Principal de Web of Science y Scielo Citation Index como aliadas para respaldar mis ideas haciendo uso de la información más confiable\, novedosa e impactante de mi área de estudio.\nPanelistas:\nSusana Meneses / Fernando Franco\nConsultores Regionales especialistas en investigación.\nEste webinar lo podrá ver posteriormente a través de nuestro canal de YouTube:
URL:https://clarivatewebinars.webex.com/webappng/sites/clarivatewebinars/meeting/register/583277d4d94d4739a369dc8b506ac3f9?ticket=4832534b00000007012652832d6b1ada2c58e86b531da68d47b5ef174c65de999f3da0578a0a5af7&#038;timestamp=1715702565329&#038;RGID=r213d97eec715521b7d24dd8b115385e5#new_tab
LOCATION:Web of Science\, Web of Science
CATEGORIES:Eventos,RED CIENCIA ABIERTA
ATTACH;FMTTYPE=image/png:https://ciencia-abierta.ubiobio.cl/wp-content/uploads/2024/05/8.png
END:VEVENT
BEGIN:VEVENT
DTSTART;TZID=UTC:20240730T150000
DTEND;TZID=UTC:20240730T160000
DTSTAMP:20260422T082235
CREATED:20240514T160745Z
LAST-MODIFIED:20240514T160745Z
UID:25096699-1722351600-1722355200@ciencia-abierta.ubiobio.cl
SUMMARY:¿Cómo aplicar un estilo bibliográfico a 100 referencias en 2 minutos?
DESCRIPTION:1. Introducción a los gestores de referencias\n2. Creación de mi cuenta de Endnote Online\n3. Ejercicios para recuperar\, agrupar y aplicar estilo a mis referencias\n4. Descarga del plugin Cita Mientras Escribes para Word. \nEl objetivo de este webinar es utilizar el gestor de referencias EndNote Online como herramienta para dar formato a las citas y referencias de mis proyectos de forma rápida y sencilla.\nPanelistas:\nSusana Meneses / Fernando Franco.\nConsultores Regionales especialistas en investigación.\nEste webinar lo podrá ver posteriormente a través de nuestro canal de YouTube:
URL:https://clarivatewebinars.webex.com/webappng/sites/clarivatewebinars/meeting/register/064e41cc066b4678a1ac711b9d36f340?ticket=4832534b000000071f790916d843023dca3a196c168b374baec248f65482816091cfd4d2e1e97afd&#038;timestamp=1715702805558&#038;RGID=ra6a0f1a2e1ea7376e03f11b7f3b56982#new_tab
LOCATION:EndNote Online\, EndNote Online
CATEGORIES:Eventos,RED CIENCIA ABIERTA
ATTACH;FMTTYPE=image/png:https://ciencia-abierta.ubiobio.cl/wp-content/uploads/2024/05/9.png
END:VEVENT
BEGIN:VEVENT
DTSTART;TZID=UTC:20240731T110000
DTEND;TZID=UTC:20240731T123000
DTSTAMP:20260422T082235
CREATED:20240724T203855Z
LAST-MODIFIED:20240724T203855Z
UID:25096956-1722423600-1722429000@ciencia-abierta.ubiobio.cl
SUMMARY:Seminario internacional evaluación justa de la ciencia y calidad del sistema de educación superior en Chile
DESCRIPTION:Exponen\nEva Méndez: Miembro de la Junta Directiva de COARA\nPilar Paneque: Directora de la Agencia Nacional de Evaluación de la Calidad y Acreditación de España\, ANECA
URL:https://docs.google.com/forms/d/e/1FAIpQLSeEQvzApiA8bu_I_tJFRwa2i5TXqKVvbrUtVPcfp4iWedj8cw/viewform#new_tab
LOCATION:Palacio ex Congreso Nacional de Chile – Catedral 1158\, Santiago
CATEGORIES:Eventos,RED CIENCIA ABIERTA
ATTACH;FMTTYPE=image/png:https://ciencia-abierta.ubiobio.cl/wp-content/uploads/2024/07/seminario-internacional.png
END:VEVENT
END:VCALENDAR